BEGIN:VCALENDAR
VERSION:2.0
PRODID:icalendar-ruby
CALSCALE:GREGORIAN
METHOD:PUBLISH
BEGIN:VEVENT
DTSTAMP:20260423T040048Z
UID:12-404397@motleyumc.net
DTSTART:20261104T003000Z
DTEND:20261104T013000Z
CLASS:PUBLIC
CREATED:20260422T220707
DESCRIPTION:TOPS Group meets in Choir room at Motley UMC
LAST-MODIFIED:20260422T220707
LOCATION:847 3rd Ave S\, Motley\, MN 56466\, United States
SUMMARY:TOPS
URL;VALUE=URI:https://motleyumc.net/events/tops/2026-11-03
END:VEVENT
END:VCALENDAR
