BEGIN:VCALENDAR
VERSION:2.0
PRODID:icalendar-ruby
CALSCALE:GREGORIAN
METHOD:PUBLISH
BEGIN:VEVENT
DTSTAMP:20260423T022451Z
UID:12-404159@motleyumc.net
DTSTART:20261027T233000Z
DTEND:20261028T003000Z
CLASS:PUBLIC
CREATED:20260422T191251
DESCRIPTION:TOPS Group meets in Choir room at Motley UMC
LAST-MODIFIED:20260422T191251
LOCATION:847 3rd Ave S\, Motley\, MN 56466\, United States
SUMMARY:TOPS
URL;VALUE=URI:https://motleyumc.net/events/tops/2026-10-27
END:VEVENT
END:VCALENDAR
