BEGIN:VCALENDAR
VERSION:2.0
PRODID:icalendar-ruby
CALSCALE:GREGORIAN
METHOD:PUBLISH
BEGIN:VEVENT
DTSTAMP:20260422T233233Z
UID:12-403920@motleyumc.net
DTSTART:20261013T233000Z
DTEND:20261014T003000Z
CLASS:PUBLIC
CREATED:20260422T162117
DESCRIPTION:TOPS Group meets in Choir room at Motley UMC
LAST-MODIFIED:20260422T162117
LOCATION:847 3rd Ave S\, Motley\, MN 56466\, United States
SUMMARY:TOPS
URL;VALUE=URI:https://motleyumc.net/events/tops/2026-10-13
END:VEVENT
END:VCALENDAR
