BEGIN:VCALENDAR
VERSION:2.0
PRODID:icalendar-ruby
CALSCALE:GREGORIAN
METHOD:PUBLISH
BEGIN:VEVENT
DTSTAMP:20260423T131258Z
UID:10-404471@motleyumc.net
DTSTART:20261009T150000Z
DTEND:20261009T153000Z
CLASS:PUBLIC
CREATED:20260423T073724
DESCRIPTION:Join the group at the church for some light exercises (combinat
 ion of standing and sitting exercises) on Tuesday and Friday mornings. As 
 we get older\, our bones need the work to stay strong!
LAST-MODIFIED:20260423T073724
LOCATION:847 3rd Ave S\, Motley\, MN 56466\, United States
SUMMARY:Bone Builders
URL;VALUE=URI:https://motleyumc.net/events/bone-builders/2026-10-09
END:VEVENT
END:VCALENDAR
